{"text_format":"2","workbook":"xlsx","n_sheets":12,"sheets":["报名须知","1企业信息","2项目内容","3知识产权","4核心团队","5股东信息","6融资情况","7人员情况","8需求调查","9附件清单","辅助列表","总表"],"not_rendered":{"charts":0,"images":0,"macros":0,"external_links":0,"defined_names":6,"comments":0,"pivot_tables":0},"unopened":[],"bounds":{"document_bytes":16777216,"sheet_cells":100000,"run_cost":"one","rows_first":2000,"rows_last":500,"rows_between":2000,"halvings":0,"cell_chars":16384,"cell_head_chars":4096},"cells_cut":0,"cells_raw":0,"read":"whole","date_system":"1900"}

{"sheet":"报名须知","index":0,"n_rows":9,"n_cols":2,"rows_kept":9,"cut":false,"hidden":false,"merged":[[0,0,0,1],[8,0,8,1],[7,0,7,1]]}
["2019年赢在东莞科技创新创业大赛成长组报名表\n报名须知"]
["一、\n参赛条件","此报名表为成长组，填写前请确认符合以下条件：\n1、工商注册时间在2017年12月31日(含)之前；\n2、全球范围内已注册成立公司的企业均可申报，非东莞本土的企业需于获奖后半年内在东莞市注册成立公司；\n3、2018年度销售额不超过2亿元人民币；\n4、非上市企业(新三板挂牌的除外)且无不良记录；\n5、项目须申请或拥有相关知识产权，且参赛项目的产品、技术或相关专利与其他任何单位或个人无产权纠纷；\n6、项目核心团队成员必须为3人或以上。\n*往届赢在东莞创新创业大赛获奖企业团队及获奖项目负责人不能参加本届赛事；对于同一单位的同一个项目（指项目实施内容或支出内容相同），已获得“科技东莞”工程专项资助的，不给予重复资助。"]
["二、\n报名方式","1、本次大赛的报名方式是以各参赛单位的邮箱发送报名资料报名参赛，为避免造成报名资料的混乱及不一致，报名资料以报名表中的“报名邮箱”为准，请妥善填写好报名邮箱，并统一以报名邮箱发送报名资料到大赛邮箱，注意报名及参赛过程中邮箱不要变动，及时查收邮件；\n2、参赛单位通过赢在东莞创新创业大赛官网（http://dgcxcy.dgcc.net.cn）下载报名表格。"]
["三、\n填写须知","1、报名资料包括此报名表及表中要求的附件资料，成长组的报名表含报名须知、企业信息、项目内容、知识产权、核心团队、股东信息、融资情况、人员情况、需求调查、附件清单，参赛单位需根据报名表内容据实填写并按要求准备好附件资料，如填写遇到问题可咨询大赛组委会；\n2、填写完成后请将报名表及附件资料用报名邮箱发送至邮箱22114308@vip.163.com进行报名，邮件命名为 “19年赢在东莞大赛报名表-企业/团队名称”，并添加赢在东莞大赛组委会的官方微信cxcy0769进行报名确认；\n3、报名日期截止后，报名资料不能再更改，所以报名时要注意人员变动等问题，如核心团队成员要妥善安排好再填写。"]
["四、\n大赛环节","1、本届大赛分为市内赛和市外赛，市内赛按4大行业分初创组、成长组、学生组报名。市外赛不分组别，不分行业由市外各分赛区完成各环节组织工作；\n2、本届分为初赛、复赛、决赛、年度总决赛等4个环节，其中初赛采用网络评审，本次报名参赛的项目通过资格审核的将按行业分配至评审组参加初赛网络评审环节，评审专家根据参赛项目提交的报名资料进行打分，按分数高低排名评选出晋级复赛的项目；\n3、复赛、决赛、年度总决赛阶段，项目路演人建议选择对公司及参赛项目情况比较了解的代表参与，能清晰阐述项目的情况，并且路演人需为报名表中的核心团队成员。"]
["五、\n参赛声明","1、参赛单位或个人同意，赢在东莞科技创新创业大赛组委会有权采取任何合法方式核实参赛资料的真实性、准确性和完整性，如有信息不符实的、资料严重缺漏的情况将自动取消参赛资格。如因参赛资料真实性、准确性和完整性方面的瑕疵造成的组委会或主办单位或其他参赛企业或个人产生任何纠纷或损失的，提供虚假材料的参赛企业或个人应予以赔偿并承担相应的其他法律责任。\n2、参赛企业或个人有关行业或企业商业机密的信息，在答辩PPT里及比赛答辩时，请务必谨慎处理。在此过程中如产生企业技术或商业机密泄露，大赛组委会概不负责。\n3、不以任何方式未经大赛组委会许可私自与评委联系，若有违反，大赛组委会有权取消其比赛资格或奖励。"]
["六、\n联系方式","大赛电话：0769-22118660    大赛邮箱：22114308@vip.163.com\n官网：http://dgcxcy.dgcc.net.cn    大赛客服微信：cxcy0769    本届大赛QQ沟通群：778183501       "]
[]
[{"$f":"IF('1企业信息'!B2=0,\"\",\"参赛单位：\"&'1企业信息'!B2&CHAR(10)&\"地址：\"&'1企业信息'!B4)","v":""}]

{"sheet":"1企业信息","index":1,"n_rows":19,"n_cols":10,"rows_kept":19,"cut":false,"hidden":false,"merged":[[13,4,13,7],[3,1,3,5],[4,1,4,5],[3,6,3,7],[4,6,4,7],[5,4,5,5],[6,6,6,9],[5,1,5,3],[6,1,6,3],[5,6,5,7],[3,8,3,9],[4,8,4,9],[0,0,0,9],[2,1,2,2],[2,4,2,5],[2,7,2,8],[1,1,1,4],[1,6,1,9],[18,0,18,9],[6,4,6,5],[14,4,14,7],[14,8,14,9],[13,2,13,3],[9,6,9,7],[9,8,9,9],[11,6,11,7],[8,8,8,9],[13,8,13,9],[14,0,14,1],[14,2,14,3],[7,3,7,4],[13,0,13,1],[7,1,7,2],[17,0,17,9],[16,0,16,1],[16,2,16,3],[16,4,16,9],[8,6,8,7],[7,6,7,7],[7,8,7,9],[15,0,15,1],[10,6,10,7],[10,8,10,9],[11,8,11,9],[15,2,15,3],[15,4,15,7],[15,8,15,9],[12,6,12,7],[12,8,12,9],[12,1,12,3]]}
["2019年赢在东莞科技创新创业大赛成长组报名表\n一、企业信息"]
["企业名称",{"$nulls":4},"报名邮箱"]
["企业所属地区","广东",null,"省","东莞",null,"市","南城",null,"镇（区）"]
["注册地址",{"$nulls":5},"2018年销售额\n（万元￥）"]
["办公地址",{"$nulls":5},"是否上市企业\n（新三版除外）",null,"否"]
["企业类型","有限责任公司",null,null,"企业成立时间",null,"2016年",null,"10月","21日"]
["注册资本\n（万元￥）",null,null,null,"实收资本\n（万元￥）"]
["企业\n总人数",null,null,"大专以上\n科技人员数",null,null,"直接从事研发\n科技人员数"]
[null,"姓名","年龄","性别","政治面貌","手机","电子邮箱",null,"身份证/\n护照号码"]
["法人"]
["项目负责人"]
["项目联系人"]
["是否上市\n公司控股企业","（请选择）",null,null,"是否新三板企业","否","是否科创板\n企业",null,"否"]
["是否国家级高新技术企业",null,2,null,{"$f":"IF(辅助列表!$D$6=1,\"\",\"/\")","v":"/"}]
["企业是否在\n经认定的孵化器内",null,2,null,{"$f":"IF(辅助列表!$D$7=1,\"\",\"/\")","v":"/"}]
["企业是否在\n经认定的众创空间内",null,2,null,{"$f":"IF(辅助列表!$D$8=1,\"\",\"/\")","v":"/"}]
["推荐单位",null,"（请选择）",null,{"$f":"IF(C17=\"其他：\",\"\",\"/\")","v":"/"}]
["企业概要\n（500字内，提示：单元格内换行可按Alt+Enter）"]
["东莞热爱云居科技有限公司是一家科技研发公司，依托于TALMD图迈家居从家具制造、硬装设计、软装设计到线上线下销售完整的生态体系。\n我们打造图迈云栖平台，旨在赋能家居产业企业改变研发、生产、营销和经营的方式，并提升产业效率和消费者满意度。\n我们为家居制造企业、品牌及设计服务企业提供科技基础设施、设计研发工具和服务、营销平台和供应链服务，让产业生态企业可借助技术和设计力量与用户和客户互动，提升端到端的交付效率。"]

{"sheet":"2项目内容","index":2,"n_rows":7,"n_cols":6,"rows_kept":7,"cut":false,"hidden":false,"merged":[[6,0,9,0],[6,1,9,5],[5,3,5,4],[0,0,0,5],[1,1,1,5],[2,1,2,5],[3,1,3,5],[4,1,4,3]]}
["二、项目内容"]
["参赛项目\n名称"]
["所属行业\n领域","（请选择）"]
["项目\n现所处阶段","（请选择）"]
["项目技术来源",{"$nulls":4},{"$f":"IF(辅助列表!$D$16,\"\",\"/\")","v":"/"}]
["科技成果转化（来源）",null,{"$f":"IF(辅助列表!D20,\"\",\"/\")","v":"/"},null,null,{"$f":"IF(辅助列表!D21,\"\",\"/\")","v":"/"}]
["项目介绍\n（1000字内）\n\n单元格内换行可按Alt+Enter"]

{"sheet":"3知识产权","index":3,"n_rows":24,"n_cols":7,"rows_kept":24,"cut":false,"hidden":false,"merged":[[15,0,15,6],[19,0,19,6],[20,0,20,6],[1,0,1,6],[0,0,0,6],[10,0,10,6],[14,0,14,6],[9,0,9,6],[2,0,2,6]]}
["三、知识产权情况"]
["*知识产权必须没有纠纷，如知识产权的所属权不是参赛企业/团队独占的，需提供其他所属人的授权使用证明书"]
["    专利（可插入增加行）"]
["专利名称","专利类型","专利权人","专利号","申请日期","授权日期","与项目\n关联性"]
[]
[]
[]
[]
[]
["*专利类型：发明专利/实用新型/外观设计\n*与项目关联性：核心技术/涉及部分技术/无关"]
["    软件著作权（可插入增加行）"]
["软件著作权名","著作权人","获得时间","登记号","与项目关联性"]
[]
[]
["*与项目关联性：核心技术/涉及部分技术/无关"]
["    集成电路布图设计（可插入增加行）"]
["布图设计名称","布图设计\n申请日","布图设计登记号","权利人","首次投入商业利用日"]
[]
[]
["*布图设计专有权的保护期为10年，自布图设计登记申请之日或者在世界任何地方首次投入商业利用之日起计算，以较前日期为准。"]
["    其他：医疗器械注册证/药品批文/植物新品种/国家级农作物品（可插入增加行）"]
["知识产权类型","注册号/批文号\n/证书号","知识产权名称","有效日期"]
["(请选择)"]
["(请选择)"]

{"sheet":"4核心团队","index":4,"n_rows":21,"n_cols":7,"rows_kept":21,"cut":false,"hidden":false,"merged":[[20,1,20,6],[10,1,10,6],[11,0,11,6],[15,1,15,6],[14,1,14,6],[19,1,19,6],[0,0,0,6],[1,0,1,6],[6,0,6,6],[5,1,5,6],[16,0,16,6],[4,1,4,6],[9,1,9,6]]}
["四、核心团队成员"]
["核心成员一（项目负责人）（必填）"]
["姓名","年龄","性别","政治面貌","最高学历","团队职务","身份证/护照号码"]
[{"$f":"IF('1企业信息'!B11=0,\"-\",'1企业信息'!B11)","v":"-"},{"$f":"IF('1企业信息'!$C$11=0,\"-\",'1企业信息'!$C$11)","v":"-"},{"$f":"IF('1企业信息'!$D$11=0,\"-\",'1企业信息'!$D$11)","v":"-"},{"$f":"IF('1企业信息'!$E$11=0,\"-\",'1企业信息'!$E$11)","v":"-"},"本科","技术总监",{"$f":"IF('1企业信息'!$I$11=0,\"-\",'1企业信息'!$I$11)","v":"-"}]
["大学教育经历\n（毕业学校、学历、专业）"]
["工作经历\n/成就荣誉"]
["核心成员二（必填）"]
["姓名","年龄","性别","政治面貌","最高学历","团队职务","身份证/护照号码"]
[]
["大学教育经历\n（毕业学校、学历、专业）"]
["工作经历\n/成就荣誉"]
["核心成员三（必填）"]
["姓名","年龄","性别","政治面貌","最高学历","团队职务","身份证/护照号码"]
[]
["大学教育经历\n（毕业学校、学历、专业）"]
["工作经历\n/成就荣誉"]
["核心成员四（选填）"]
["姓名","年龄","性别","政治面貌","最高学历","团队职务","身份证/护照号码"]
["黄博通",28,"男",null,"硕士","数据分析主管"]
["大学教育经历\n（毕业学校、学历、专业）"]
["工作经历\n/成就荣誉"]

{"sheet":"5股东信息","index":5,"n_rows":23,"n_cols":6,"rows_kept":23,"cut":false,"hidden":false,"merged":[[22,0,22,5],[0,0,0,5]]}
["五、股东信息"]
["股东名称/姓名","股东类型","应缴金额\n（万元￥）","实缴金额\n（万元￥）","出资形式","股份比例\n（%）"]
{"$rows_empty":20}
["*按验资报告、章程或工商登记信息填报。\n*股东类型：自然人、上市公司、投资机构、国有法人、其他\n*出资形式包括：货币、实物、知识产权、土地使用权"]

{"sheet":"6融资情况","index":6,"n_rows":18,"n_cols":5,"rows_kept":18,"cut":false,"hidden":false,"merged":[[0,0,0,4],[1,0,1,4],[9,0,9,4],[17,0,17,4],[18,0,18,4]]}
["六、融资情况"]
["1、现股权融资情况"]
["投资人/投资机构","融资金额\n（万元）","所占股权比例\n（%）","投资时间","现融资阶段（可填天使、A轮、B轮、C轮或其他）"]
[]
[]
[]
[]
[]
[]
["2、现债权融资情况"]
["出借方","贷款金额\n（万元）","贷款启动时间","贷款结束时间"]
[]
[]
[]
[]
[]
[]
["3、融资资金使用计划"]

{"sheet":"7人员情况","index":7,"n_rows":15,"n_cols":6,"rows_kept":15,"cut":false,"hidden":false,"merged":[[14,0,14,5],[8,1,8,2],[10,2,10,5],[11,2,11,5],[12,2,12,5],[8,0,12,0],[9,2,9,5],[7,1,7,4],[0,0,0,5],[1,1,1,3],[2,1,2,5],[3,1,3,2],[4,1,4,2],[5,0,6,0],[5,1,5,3],[5,4,5,5],[6,1,6,3],[6,4,6,5],[3,0,4,0]]}
["七、企业人员情况"]
["企业名称",{"$f":"IF('1企业信息'!B2=0,\"-\",'1企业信息'!B2)","v":"-"},null,null,"注册时间",{"$f":"'1企业信息'!$G$6&'1企业信息'!$I$6&'1企业信息'!$J$6","v":"2016年10月21日"}]
["注册地址",{"$f":"IF('1企业信息'!B4=0,\"-\",'1企业信息'!B4)","v":"-"}]
["企业人员情况","总人数（人）",null,"毕业5年内的高校毕业生数（人）","退役军人数（人）","就业困难人员数（人）"]
[null,{"$f":"IF('1企业信息'!$B$8=0,\"-\",'1企业信息'!$B$8)","v":"-"}]
["社保情况","在岗工作并按规定参加社会保险3个月以上员工人数（人）",null,null,"在岗工作并按规定参加社会保险6个月以上员工人数（人）"]
[]
["企业招聘计划","未来1年企业是否能通过拓展市场\n和扩大生产规模将创造50个就业岗位以上",null,null,null,"是"]
["企业法人\n人个成就\n及社会贡献","企业法人姓名",null,{"$f":"IF('1企业信息'!B10=0,\"-\",'1企业信息'!B10)","v":"-"},"学历","大专"]
[null,"一"]
[null,"二"]
[null,"三"]
[null,"四"]
[]
["*所需证明资料：\n1、企业人员情况及社保情况需提供企业人员情况清单；\n2、有企业招聘计划的需提供企业发展规划及岗位招聘计划；\n3、企业法人有人个成就及社会贡献的需提供相关证明资料。"]

{"sheet":"8需求调查","index":8,"n_rows":13,"n_cols":6,"rows_kept":13,"cut":false,"hidden":false,"merged":[[6,2,6,5],[11,1,11,5],[12,1,12,5],[8,1,8,5],[0,0,0,5],[9,0,10,0],[9,3,9,5],[10,3,10,5],[2,0,7,0],[2,1,3,1],[4,1,5,1],[1,1,1,3],[2,4,2,5],[3,4,3,5],[4,4,4,5],[5,4,5,5],[7,2,7,5]]}
["八、需求调查"]
["参赛目的",{"$nulls":4},{"$f":"IF(辅助列表!D56,\"\",\"/\")","v":"/"}]
["融资服务",null,"融资金额\n（万元￥）","拟出让股权比例\n(%)","融资时间"]
[null,null,{"$f":"IF(辅助列表!D59,\"\",\"/\")","v":"/"},{"$f":"IF(辅助列表!D59,\"\",\"/\")","v":"/"},{"$f":"IF(辅助列表!D59,\"\",\"/\")","v":"/"}]
[null,null,"融资金额\n（万元￥）","可接受最高年利率\n（%）","融资时间"]
[null,null,{"$f":"IF(辅助列表!D60,\"\",\"/\")","v":"/"},{"$f":"IF(辅助列表!D60,\"\",\"/\")","v":"/"},{"$f":"IF(辅助列表!D60,\"\",\"/\")","v":"/"}]
[null,"融资资金使用计划",{"$f":"IF(OR(辅助列表!D59,辅助列表!D60),\"\",\"/\")","v":"/"}]
[null,"并购"]
["对接服务"]
["众包服务",null,"技术及方案内容：",{"$f":"IF(辅助列表!D63,\"\",\"/\")","v":"/"}]
[null,null,"需求内容：",{"$f":"IF(辅助列表!D64,\"\",\"/\")","v":"/"}]
["其它服务"]
["其它需求\n或建议\n（自行填写）"]

{"sheet":"9附件清单","index":9,"n_rows":13,"n_cols":3,"rows_kept":13,"cut":false,"hidden":false,"merged":[[0,0,0,2]]}
["九、附件清单"]
["序号","资料","说明"]
[1,"营业执照（必须上传）","/"]
[2,"商业计划书（必须上传）","商业计划书提纲：基本概况（公司情况介绍、参赛项目情况介绍）、主要团队情况（团队情况说明）、业务及市场（公司主营产品业务发展情况、项目业务情况、项目市场的规模、市场行业前景、竞争对手等）、竞争优势（技术实力、渠道优势、客户关系等）、商业模式（项目的主要客户、销售渠道、产品发展战略规划、采购模式、生产模式、项目发展规划等）、财务情况（公司财务情况、项目财务预算、未来三年盈利预测、资金使用计划等）"]
[3,"2017年、2018年财务报表或审计报告\n（必须上传）","财务报表扫描须清晰及盖公章，包含：\n资产负债表、利润表、现金流量表"]
[4,"身份证原件彩色扫描（必须上传）","包括：法人、项目负责人、\n核心团队成员、项目联系人"]
[5,"知识产权证书（必须上传）","如知识产权的所属权不是参赛企业/团队，或不是企业/团队独占的，需提供其他所属人的授权使用证明书"]
[6,"企业人员情况清单（选择上传）","/"]
[7,"产品图片（选择上传）","/"]
[8,"查新报告（选择上传）","/"]
[9,"检测报告（选择上传）","/"]
[10,"团队合影（选择上传）","/"]
[11,"其它附件（选择上传）","所填内容对应的佐证材料"]

{"sheet":"辅助列表","index":10,"n_rows":90,"n_cols":5,"rows_kept":90,"cut":false,"hidden":true,"merged":[[1,2,1,4],[47,2,47,4],[10,2,10,4],[11,3,11,4],[18,3,18,4],[4,2,4,4],[23,2,23,4]]}
["注册日期"]
[{"$f":"'1企业信息'!$G$6&'1企业信息'!$I$6&'1企业信息'!$J$6","v":"2016年10月21日"},null,"报名须知"]
["注册日期年份",null,"是否已阅",false]
["****年"]
["2017年",null,"1企业信息"]
["2016年",null,"是否国家级高新技术企业",2]
["2015年",null,"企业是否在经认定的孵化器内",2]
["2014年",null,"企业是否在经认定的众创空间内",2]
["2013年"]
["2012年"]
["2011年",null,"2项目内容"]
["2010年",null,"项目技术来源",{"$f":"IF($D$13,$C$13&\"、\",\"\")&IF($D$14,$C$14&\"、\",\"\")&IF($D$15,$C$15&\"、\",\"\")&IF($D$16,$C$16&$E$16,\"\")","v":""}]
["2009年",null,"独立知识产权",false,"/"]
["2008年",null,"合作研发",false,"/"]
["2007年",null,"技术购买",false,"/"]
["2006年",null,"其它：",false,{"$f":"'2项目内容'!$F$5","v":"/"}]
["2005年"]
["2004年"]
["2003年",null,"科技成果转化（来源）"]
["2002年",null,"高校，高校名称：",false,{"$f":"'2项目内容'!$C$6","v":"/"}]
["2001年",null,"科技计划，计划名称：",false,{"$f":"'2项目内容'!$F$6","v":"/"}]
["2000年"]
["1999年"]
["1998年",null,"7人员情况"]
["1997年",null,"企业法人人个成就及社会贡献"]
["1996年",null,"一、"]
["1995年",null,"曾担任国内外重大科研、项目带头人",false,{"$f":"'2项目内容'!$F$6","v":"/"}]
["1994年",null,"国际著名高校、知名企业、研究机构高级职务",false,{"$f":"'2项目内容'!$F$6","v":"/"}]
["1993年",null,"行业内龙头企业高级职务或核心技术知识产权持有人",false,{"$f":"'2项目内容'!$F$6","v":"/"}]
["1992年",null,"国家级人才表彰、荣誉",false,{"$f":"'2项目内容'!$F$6","v":"/"}]
["1991年",null,"国家科技进步二等奖以上（排名前三）或省部级科技奖一等奖（排名前三）",false,{"$f":"'2项目内容'!$F$6","v":"/"}]
["1990年",null,"具有国际一流专业水平的国家“千人计划”专家及与其层次相当的国家级人才工程人选和国家重点实验室学术带头人",false,{"$f":"'2项目内容'!$F$6","v":"/"}]
["1989年",null,"二、"]
["1988年",null,"曾担任国内外重大科研、项目主要参与人",false,{"$f":"'2项目内容'!$F$6","v":"/"}]
["1987年",null,"国际著名高校、知名企业、研究机构、行业内龙头企业中层以上职务",false,{"$f":"'2项目内容'!$F$6","v":"/"}]
["1986年",null,"省、部级人才表彰、荣誉",false,{"$f":"'2项目内容'!$F$6","v":"/"}]
["1985年",null,"省（部）级科学技术奖二等奖（排名前三）或获市级科学技术一等奖（排名前三）",false,{"$f":"'2项目内容'!$F$6","v":"/"}]
["1984年",null,"入选广东省人才特支计划及与其层次相当的省部级人才计划人选和省级实验室负责人",false,{"$f":"'2项目内容'!$F$6","v":"/"}]
["1983年",null,"三、"]
["1982年",null,"曾参与重大科研项目",false,{"$f":"'2项目内容'!$F$6","v":"/"}]
["1981年",null,"具有著名高校、知名企业、研究机构工作经历或行业内龙头企业工作经历",false,{"$f":"'2项目内容'!$F$6","v":"/"}]
["1980年",null,"所在地市人才表彰、荣誉及其他市级奖项等",false,{"$f":"'2项目内容'!$F$6","v":"/"}]
["1979年",null,"四、",null,{"$f":"'2项目内容'!$F$6","v":"/"}]
["1978年",null,"曾担任其他企业研发、技术部门负责人",false,{"$f":"'2项目内容'!$F$6","v":"/"}]
["1977年",null,"其他行业内荣誉奖项",false,{"$f":"'2项目内容'!$F$6","v":"/"}]
["1976年"]
["1975年"]
["1974年",null,"8需求调查"]
["1973年",null,"参赛目的"]
["1972年",null,"竞争荣誉",false,"/"]
["1971年",null,"寻找股权融资",false,"/"]
["1970年",null,"寻找债权融资",false,"/"]
["1969年",null,"寻找政府政策支持",false,"/"]
["1968年",null,"宣传展示",false,"/"]
["1967年",null,"学习、体验、交流",false,"/"]
["1966年",null,"其它：",false,{"$f":"'8需求调查'!F2","v":"/"}]
["1965年"]
["1964年",null,"融资服务"]
["1963年",null,"股权融资",false]
["1962年",null,"债权融资",false]
["1961年"]
["1960年",null,"众包服务"]
["1959年",null,"能提供技术及方案",false]
["1958年",null,"需求技术及方案",false]
["1957年"]
["1956年",null,"并购"]
["1955年",null,"愿意并购其他相关企业",false]
["1954年",null,"愿意被上市公司等其他企业并购",false]
["1953年"]
["1952年"]
["1951年",null,"对接服务"]
["1950年",null,"路演推介",false]
["1949年",null,"技术对接",false]
["1948年",null,"投资机构对接",false]
["1947年"]
["1946年"]
["1945年",null,"其它服务"]
["1944年",null,"政策咨询",false]
["1943年",null,"孵化服务",false]
["1942年",null,"场地需求",false]
["1941年",null,"人才引进",false]
["1940年",null,"产品检测",false]
[null,null,"品牌宣传",false]
[]
[]
[null,null,"知识产权",{"$f":"IF(D87,\"专利，\",\"\")&IF(D88,\"软件著作权，\",\"\")&IF(D89,\"集成电路布图设计，\",\"\")&IF(D90,\"其他\",\"\")","v":""}]
[null,null,"专利",false]
[null,null,"软件著作权",false]
[null,null,"集成电路布图设计",false]
[null,null,"其他",false]

{"sheet":"总表","index":11,"n_rows":4,"n_cols":103,"rows_kept":4,"cut":false,"hidden":true,"merged":[]}
[]
[]
["组别","企业名称","报名邮箱","阅读报名须知","省","市","镇","注册地址","办公地址","企业类型","企业成立时间","2018年销售额","是否上市企业","注册资本","实收资本","企业总人数","大专以上\n科技人员数","直接从事研发\n科技人员数","法人姓名","法人年龄","法人性别","法人政治面貌","法人手机","法人电子邮件","法人身份证/\n护照号码","项目负责人姓名","项目负责人年龄","项目负责人性别","项目负责人政治面貌","项目负责人手机","项目负责人电子邮件","项目负责人身份证/护照号码","项目联系人姓名","项目联系人年龄","项目联系人性别","项目联系人政治面貌","项目联系人手机","项目联系人电子邮件","项目联系人身份证/\n护照号码","是否上市公司控股企业","是否新三板企业","是否科创板\n企业","是否国家级高新技术企业","企业是否在经认定的孵化器内","企业是否在经认定的众创空间内","推荐单位","项目概要","参赛项目\n名称","所属行业\n领域","项目\n现所处阶段","项目技术来源","科技成果转化（高校）","科技成果转化（科技计划）","企业概要","知识产权情况","核心成员1姓名","核心成员1年龄","核心成员1性别","核心成员1政治面貌","核心成员1最高学历","核心成员1职位/团队角色","核心成员1身份证/护照号码","核心成员2姓名","核心成员2年龄","核心成员2性别","核心成员2政治面貌","核心成员2最高学历","核心成员2职位/团队角色","核心成员2身份证/护照号码","核心成员3姓名","核心成员3年龄","核心成员3性别","核心成员3政治面貌","核心成员3最高学历","核心成员3职位/团队角色","核心成员3身份证/护照号码","核心成员4姓名","核心成员4年龄","核心成员4性别","核心成员4政治面貌","核心成员4最高学历","核心成员4职位/团队角色","核心成员4身份证/护照号码","股东信息","总人数（人）","毕业5年内的高校毕业生数（人）","退役军人数（人）","就业困难人员数（人）","在岗工作并按规定参加社会保险3个月以上员工人数（人）","在岗工作并按规定参加社会保险6个月以上员工人数（人）","未来1年企业是否能通过拓展市场和扩大生产规模将创造50个就业岗位以上","法人学历","企业法人人个成就及社会贡献","参赛目的","股权融资需求","债权融资需求","需求-融资资金使用计划","并购需求","对接服务需求","众包服务提供方","众包服务需求方","其它服务需求","其它需求或建议"]
["成长组",{"$f":"'1企业信息'!$B$2","v":0},{"$f":"'1企业信息'!$G$2","v":0},{"$f":"IF(辅助列表!$D$3,\"已阅\",\"未阅\")","v":"未阅"},{"$f":"'1企业信息'!$B$3","v":"广东"},{"$f":"'1企业信息'!$E$3","v":"东莞"},{"$f":"'1企业信息'!$H$3","v":"南城"},{"$f":"'1企业信息'!$B$4","v":0},{"$f":"'1企业信息'!$B$5","v":0},{"$f":"'1企业信息'!$B$6","v":"有限责任公司"},{"$f":"辅助列表!$A$2","v":"2016年10月21日"},{"$f":"'1企业信息'!$I$4","v":0},{"$f":"'1企业信息'!$I$5","v":"否"},{"$f":"'1企业信息'!$B$7","v":0},{"$f":"'1企业信息'!$G$7","v":0},{"$f":"'1企业信息'!$B$8","v":0},{"$f":"'1企业信息'!$F$8","v":0},{"$f":"'1企业信息'!$I$8","v":0},{"$f":"'1企业信息'!$B$10","v":0},{"$f":"'1企业信息'!$C$10","v":0},{"$f":"'1企业信息'!$D$10","v":0},{"$f":"'1企业信息'!$E$10","v":0},{"$f":"'1企业信息'!$F$10","v":0},{"$f":"'1企业信息'!$G$10","v":0},{"$f":"'1企业信息'!$I$10","v":0},{"$f":"'1企业信息'!$B$11","v":0},{"$f":"'1企业信息'!$C$11","v":0},{"$f":"'1企业信息'!$D$11","v":0},{"$f":"'1企业信息'!$E$11","v":0},{"$f":"'1企业信息'!$F$11","v":0},{"$f":"'1企业信息'!$G$11","v":0},{"$f":"'1企业信息'!$I$11","v":0},{"$f":"'1企业信息'!$B$12","v":0},{"$f":"'1企业信息'!$C$12","v":0},{"$f":"'1企业信息'!$D$12","v":0},{"$f":"'1企业信息'!$E$12","v":0},{"$f":"'1企业信息'!$F$12","v":0},{"$f":"'1企业信息'!$G$12","v":0},{"$f":"'1企业信息'!$I$12","v":0},{"$f":"'1企业信息'!$B$13","v":"（请选择）"},{"$f":"'1企业信息'!$F$13","v":"否"},{"$f":"'1企业信息'!$I$13","v":"否"},{"$f":"IF(辅助列表!$D$6=1,\"是。获得时间：\"&'1企业信息'!$E$14,\"否\")","v":"否"},{"$f":"IF(辅助列表!$D$7=1,\"是。孵化器名称：\"&'1企业信息'!$E$15,\"否\")","v":"否"},{"$f":"IF(辅助列表!$D$8=1,\"是。众创空间名称：\"&'1企业信息'!$E$16,\"否\")","v":"否"},{"$f":"IF('1企业信息'!$C$17=\"其他：\",\"其他：\"&'1企业信息'!$E$17,'1企业信息'!$C$17)","v":"（请选择）"},{"$f":"'1企业信息'!$A$19","v":"东莞热爱云居科技有限公司是一家科技研发公司，依托于TALMD图迈家居从家具制造、硬装设计、软装设计到线上线下销售完整的生态体系。\n我们打造图迈云栖平台，旨在赋能家居产业企业改变研发、生产、营销和经营的方式，并提升产业效率和消费者满意度。\n我们为家居制造企业、品牌及设计服务企业提供科技基础设施、设计研发工具和服务、营销平台和供应链服务，让产业生态企业可借助技术和设计力量与用户和客户互动，提升端到端的交付效率。"},{"$f":"'2项目内容'!$B$2","v":0},{"$f":"'2项目内容'!$B$3","v":"（请选择）"},{"$f":"'2项目内容'!$B$4","v":"（请选择）"},{"$f":"辅助列表!$D$12","v":""},{"$f":"'2项目内容'!$C$6","v":"/"},{"$f":"'2项目内容'!$F$6","v":"/"},{"$f":"'1企业信息'!$A$19","v":"东莞热爱云居科技有限公司是一家科技研发公司，依托于TALMD图迈家居从家具制造、硬装设计、软装设计到线上线下销售完整的生态体系。\n我们打造图迈云栖平台，旨在赋能家居产业企业改变研发、生产、营销和经营的方式，并提升产业效率和消费者满意度。\n我们为家居制造企业、品牌及设计服务企业提供科技基础设施、设计研发工具和服务、营销平台和供应链服务，让产业生态企业可借助技术和设计力量与用户和客户互动，提升端到端的交付效率。"},{"$f":"辅助列表!D86","v":""},{"$f":"'4核心团队'!$A$4","v":"-"},{"$f":"'4核心团队'!$B$4","v":"-"},{"$f":"'4核心团队'!$C$4","v":"-"},{"$f":"'4核心团队'!$D$4","v":"-"},{"$f":"'4核心团队'!$E$4","v":"本科"},{"$f":"'4核心团队'!$F$4","v":"技术总监"},{"$f":"'4核心团队'!$G$4","v":"-"},{"$f":"'4核心团队'!$A$9","v":0},{"$f":"'4核心团队'!$B$9","v":0},{"$f":"'4核心团队'!$C$9","v":0},{"$f":"'4核心团队'!$D$9","v":0},{"$f":"'4核心团队'!$E$9","v":0},{"$f":"'4核心团队'!$F$9","v":0},{"$f":"'4核心团队'!$G$9","v":0},{"$f":"'4核心团队'!$A$14","v":0},{"$f":"'4核心团队'!$B$14","v":0},{"$f":"'4核心团队'!$C$14","v":0},{"$f":"'4核心团队'!$D$14","v":0},{"$f":"'4核心团队'!$E$14","v":0},{"$f":"'4核心团队'!$F$14","v":0},{"$f":"'4核心团队'!$G$14","v":0},{"$f":"'4核心团队'!$A$19","v":"黄博通"},{"$f":"'4核心团队'!$B$19","v":28},{"$f":"'4核心团队'!$C$19","v":"男"},{"$f":"'4核心团队'!$D$19","v":0},{"$f":"'4核心团队'!$E$19","v":"硕士"},{"$f":"'4核心团队'!$F$19","v":"数据分析主管"},{"$f":"'4核心团队'!$G$19","v":0},{"$f":"IF('5股东信息'!A3=\"\",\"\",'5股东信息'!A3&\",应缴\"&'5股东信息'!C3&\"万,实缴\"&'5股东信息'!D3&\"万,占股\"&'5股东信息'!F3*100&\"%;\")&IF('5股东信息'!A4=\"\",\"\",'5股东信息'!A4&\",应缴\"&'5股东信息'!C4&\"万,实缴\"&'5股东信息'!D4&\"万,占股\"&'5股东信息'!F4*100&\"%;\")&IF('5股东信息'!A5=\"\",\"\",'5股东信息'!A5&\",应缴\"&'5股东信息'!C5&\"万,实缴\"&'5股东信息'!D5&\"万,占股\"&'5股东信息'!F5*100&\"%;\")&IF('5股东信息'!A6=\"\",\"\",'5股东信息'!A6&\",应缴\"&'5股东信息'!C6&\"万,实缴\"&'5股东信息'!D6&\"万,占股\"&'5股东信息'!F6*100&\"%;\")&IF('5股东信息'!A7=\"\",\"\",'5股东信息'!A7&\",应缴\"&'5股东信息'!C7&\"万,实缴\"&'5股东信息'!D7&\"万,占股\"&'5股东信息'!F7*100&\"%;\")&IF('5股东信息'!A8=\"\",\"\",'5股东信息'!A8&\",应缴\"&'5股东信息'!C8&\"万,实缴\"&'5股东信息'!D8&\"万,占股\"&'5股东信息'!F8*100&\"%;\")&IF('5股东信息'!A9=\"\",\"\",'5股东信息'!A9&\",应缴\"&'5股东信息'!C9&\"万,实缴\"&'5股东信息'!D9&\"万,占股\"&'5股东信息'!F9*100&\"%;\")&IF('5股东信息'!A10=\"\",\"\",'5股东信息'!A10&\",应缴\"&'5股东信息'!C10&\"万,实缴\"&'5股东信息'!D10&\"万,占股\"&'5股东信息'!F10*100&\"%;\")&IF('5股东信息'!A11=\"\",\"\",'5股东信息'!A11&\",应缴\"&'5股东信息'!C11&\"万,实缴\"&'5股东信息'!D11&\"万,占股\"&'5股东信息'!F11*100&\"%;\")&IF('5股东信息'!A12=\"\",\"\",'5股东信息'!A12&\",应缴\"&'5股东信息'!C12&\"万,实缴\"&'5股东信息'!D12&\"万,占股\"&'5股东信息'!F12*100&\"%;\")&IF('5股东信息'!A13=\"\",\"\",'5股东信息'!A13&\",应缴\"&'5股东信息'!C13&\"万,实缴\"&'5股东信息'!D13&\"万,占股\"&'5股东信息'!F13*100&\"%;\")&IF('5股东信息'!A14=\"\",\"\",'5股东信息'!A14&\",应缴\"&'5股东信息'!C14&\"万,实缴\"&'5股东信息'!D14&\"万,占股\"&'5股东信息'!F14*100&\"%;\")&IF('5股东信息'!A15=\"\",\"\",'5股东信息'!A15&\",应缴\"&'5股东信息'!C15&\"万,实缴\"&'5股东信息'!D15&\"万,占股\"&'5股东信息'!F15*100&\"%;\")&IF('5股东信息'!A16=\"\",\"\",'5股东信息'!A16&\",应缴\"&'5股东信息'!C16&\"万,实缴\"&'5股东信息'!D16&\"万,占股\"&'5股东信息'!F16*100&\"%;\")&IF('5股东信息'!A17=\"\",\"\",'5股东信息'!A17&\",应缴\"&'5股东信息'!C17&\"万,实缴\"&'5股东信息'!D17&\"万,占股\"&'5股东信息'!F17*100&\"%;\")&IF('5股东信息'!A18=\"\",\"\",'5股东信息'!A18&\",应缴\"&'5股东信息'!C18&\"万,实缴\"&'5股东信息'!D18&\"万,占股\"&'5股东信息'!F18*100&\"%;\")&IF('5股东信息'!A19=\"\",\"\",'5股东信息'!A19&\",应缴\"&'5股东信息'!C19&\"万,实缴\"&'5股东信息'!D19&\"万,占股\"&'5股东信息'!F19*100&\"%;\")&IF('5股东信息'!A20=\"\",\"\",'5股东信息'!A20&\",应缴\"&'5股东信息'!C20&\"万,实缴\"&'5股东信息'!D20&\"万,占股\"&'5股东信息'!F20*100&\"%;\")&IF('5股东信息'!A21=\"\",\"\",'5股东信息'!A21&\",应缴\"&'5股东信息'!C21&\"万,实缴\"&'5股东信息'!D21&\"万,占股\"&'5股东信息'!F21*100&\"%;\")&IF('5股东信息'!A22=\"\",\"\",'5股东信息'!A22&\",应缴\"&'5股东信息'!C22&\"万,实缴\"&'5股东信息'!D22&\"万,占股\"&'5股东信息'!F22*100&\"%;\")","v":""},{"$f":"'7人员情况'!$B$5","v":"-"},{"$f":"'7人员情况'!$D$5","v":0},{"$f":"'7人员情况'!$E$5","v":0},{"$f":"'7人员情况'!$F$5","v":0},{"$f":"'7人员情况'!$B$7","v":0},{"$f":"'7人员情况'!$E$7","v":0},{"$f":"'7人员情况'!$F$8","v":"是"},{"$f":"'7人员情况'!$F$9","v":"大专"},{"$f":"IF(辅助列表!D27,辅助列表!C27&\"；\",\"\")&IF(辅助列表!D28,辅助列表!C28&\"；\",\"\")&IF(辅助列表!D29,辅助列表!C29&\"；\",\"\")&IF(辅助列表!D30,辅助列表!C30&\"；\",\"\")&IF(辅助列表!D31,辅助列表!C31&\"；\",\"\")&IF(辅助列表!D32,辅助列表!C32&\"；\",\"\")&IF(辅助列表!D34,辅助列表!C34&\"；\",\"\")&IF(辅助列表!D35,辅助列表!C35&\"；\",\"\")&IF(辅助列表!D36,辅助列表!C36&\"；\",\"\")&IF(辅助列表!D37,辅助列表!C37&\"；\",\"\")&IF(辅助列表!D38,辅助列表!C38&\"；\",\"\")&IF(辅助列表!D40,辅助列表!C40&\"；\",\"\")&IF(辅助列表!D41,辅助列表!C41&\"；\",\"\")&IF(辅助列表!D42,辅助列表!C42&\"；\",\"\")&IF(辅助列表!D44,辅助列表!C44&\"；\",\"\")&IF(辅助列表!D45,辅助列表!C45&\"；\",\"\")","v":""},{"$f":"IF(辅助列表!$D$50,辅助列表!$C$50&\",\",\"\")&IF(辅助列表!$D$51,辅助列表!$C$51&\",\",\"\")&IF(辅助列表!$D$52,辅助列表!$C$52&\",\",\"\")&IF(辅助列表!$D$53,辅助列表!$C$53&\",\",\"\")&IF(辅助列表!$D$54,辅助列表!$C$54&\",\",\"\")&IF(辅助列表!$D$55,辅助列表!$C$55&\",\",\"\")&IF(辅助列表!$D$56,辅助列表!$E$56&\",\",\"\")","v":""},{"$f":"IF(辅助列表!$D$59,\"有需求\",\"没需求\")&\",\"&'8需求调查'!$C$4&\",\"&'8需求调查'!$D$4&\",\"&'8需求调查'!$E$4","v":"没需求,/,/,/"},{"$f":"IF(辅助列表!$D$60,\"有需求\",\"没需求\")&\",\"&'8需求调查'!$C$6&\",\"&'8需求调查'!$D$6&\",\"&'8需求调查'!$E$6","v":"没需求,/,/,/"},{"$f":"'8需求调查'!$C$7","v":"/"},{"$f":"IF(辅助列表!$D$67,辅助列表!$C$67&\"；\",\"\")&IF(辅助列表!$D$68,辅助列表!$C$68,\"\")","v":""},{"$f":"IF(辅助列表!$D$72,辅助列表!$C$72&\",\",\"\")&IF(辅助列表!$D$73,辅助列表!$C$73&\",\",\"\")&IF(辅助列表!$D$74,辅助列表!$C$74&\",\",\"\")","v":""},{"$f":"IF(辅助列表!$D$63,\"有。\"&'8需求调查'!$D$10,\"无\")","v":"无"},{"$f":"IF(辅助列表!$D$64,\"有。\"&'8需求调查'!$D$11,\"无\")","v":"无"},{"$f":"IF(辅助列表!$D$78,辅助列表!$C$78&\",\",\"\")&IF(辅助列表!$D$79,辅助列表!$C$79&\",\",\"\")&IF(辅助列表!$D$80,辅助列表!$C$80&\",\",\"\")&IF(辅助列表!$D$81,辅助列表!$C$81&\",\",\"\")&IF(辅助列表!$D$82,辅助列表!$C$82&\",\",\"\")&IF(辅助列表!$D$83,辅助列表!$C$83,\"\")","v":""},{"$f":"'8需求调查'!$B$13","v":0}]